BEGIN:VCALENDAR
VERSION:2.0
PRODID:-//www.urios.edu.ph - ECPv6.10.2//NONSGML v1.0//EN
CALSCALE:GREGORIAN
METHOD:PUBLISH
X-ORIGINAL-URL:https://www.urios.edu.ph
X-WR-CALDESC:Events for www.urios.edu.ph
REFRESH-INTERVAL;VALUE=DURATION:PT1H
X-Robots-Tag:noindex
X-PUBLISHED-TTL:PT1H
BEGIN:VTIMEZONE
TZID:UTC
BEGIN:STANDARD
TZOFFSETFROM:+0000
TZOFFSETTO:+0000
TZNAME:UTC
DTSTART:20240101T000000
END:STANDARD
END:VTIMEZONE
BEGIN:VEVENT
DTSTART;TZID=UTC:20250429T080000
DTEND;TZID=UTC:20250505T170000
DTSTAMP:20260419T232204
CREATED:20240730T050710Z
LAST-MODIFIED:20240801T012916Z
UID:10000090-1745913600-1746464400@www.urios.edu.ph
SUMMARY:Encoding of the final grades of the  graduating students  (Latin Honor Candidates)
DESCRIPTION:
URL:https://www.urios.edu.ph/event/encoding-of-the-final-grades-of-the-graduating-students-latin-honor-candidates/
CATEGORIES:Registrar
END:VEVENT
BEGIN:VEVENT
DTSTART;TZID=UTC:20250319T080000
DTEND;TZID=UTC:20250408T170000
DTSTAMP:20260419T232204
CREATED:20240730T035646Z
LAST-MODIFIED:20240801T012923Z
UID:10000074-1742371200-1744131600@www.urios.edu.ph
SUMMARY:Encoding of the midterm grades
DESCRIPTION:
URL:https://www.urios.edu.ph/event/encoding-of-the-midterm-grades-3/
LOCATION:Main Campus\, San Francisco St.\, Butuan City
CATEGORIES:College,Registrar
END:VEVENT
BEGIN:VEVENT
DTSTART;TZID=UTC:20241210T080000
DTEND;TZID=UTC:20241231T170000
DTSTAMP:20260419T232204
CREATED:20240730T060112Z
LAST-MODIFIED:20240801T012133Z
UID:10000115-1733817600-1735664400@www.urios.edu.ph
SUMMARY:Encoding of the final grades
DESCRIPTION:
URL:https://www.urios.edu.ph/event/encoding-of-the-final-grades-2/
CATEGORIES:Registrar
END:VEVENT
BEGIN:VEVENT
DTSTART;TZID=UTC:20241008T080000
DTEND;TZID=UTC:20241029T170000
DTSTAMP:20260419T232204
CREATED:20240730T025201Z
LAST-MODIFIED:20240801T012941Z
UID:10000027-1728374400-1730221200@www.urios.edu.ph
SUMMARY:Encoding of the midterm grades
DESCRIPTION:
URL:https://www.urios.edu.ph/event/encoding-of-the-midterm-grades/
CATEGORIES:Registrar
END:VEVENT
END:VCALENDAR