BEGIN:VCALENDAR
VERSION:2.0
PRODID:-//www.urios.edu.ph - ECPv6.10.2//NONSGML v1.0//EN
CALSCALE:GREGORIAN
METHOD:PUBLISH
X-ORIGINAL-URL:https://www.urios.edu.ph
X-WR-CALDESC:Events for www.urios.edu.ph
REFRESH-INTERVAL;VALUE=DURATION:PT1H
X-Robots-Tag:noindex
X-PUBLISHED-TTL:PT1H
BEGIN:VTIMEZONE
TZID:UTC
BEGIN:STANDARD
TZOFFSETFROM:+0000
TZOFFSETTO:+0000
TZNAME:UTC
DTSTART:20240101T000000
END:STANDARD
END:VTIMEZONE
BEGIN:VEVENT
DTSTART;TZID=UTC:20250630T080000
DTEND;TZID=UTC:20250705T170000
DTSTAMP:20260420T043150
CREATED:20240730T035912Z
LAST-MODIFIED:20240731T020219Z
UID:10000077-1751270400-1751734800@www.urios.edu.ph
SUMMARY:Enrollment: 1st yr.\,  transferees and  2nd yr. continuing students
DESCRIPTION:
URL:https://www.urios.edu.ph/event/enrollment-1st-yr-transferees-and-2nd-yr-continuing-students/
CATEGORIES:Enrollment 1st Semester 2024
END:VEVENT
BEGIN:VEVENT
DTSTART;TZID=UTC:20240710T080000
DTEND;TZID=UTC:20240710T170000
DTSTAMP:20260420T043150
CREATED:20240713T024005Z
LAST-MODIFIED:20240713T025405Z
UID:10000004-1720598400-1720630800@www.urios.edu.ph
SUMMARY:College Enrollment Schedule
DESCRIPTION:
URL:https://www.urios.edu.ph/event/college-enrollment-schedule/
CATEGORIES:Enrollment 1st Semester 2024
END:VEVENT
END:VCALENDAR