BEGIN:VCALENDAR
VERSION:2.0
PRODID:-//www.urios.edu.ph - ECPv6.10.2//NONSGML v1.0//EN
CALSCALE:GREGORIAN
METHOD:PUBLISH
X-ORIGINAL-URL:https://www.urios.edu.ph
X-WR-CALDESC:Events for www.urios.edu.ph
REFRESH-INTERVAL;VALUE=DURATION:PT1H
X-Robots-Tag:noindex
X-PUBLISHED-TTL:PT1H
BEGIN:VTIMEZONE
TZID:UTC
BEGIN:STANDARD
TZOFFSETFROM:+0000
TZOFFSETTO:+0000
TZNAME:UTC
DTSTART:20240101T000000
END:STANDARD
END:VTIMEZONE
BEGIN:VEVENT
DTSTART;TZID=UTC:20250721T080000
DTEND;TZID=UTC:20250721T170000
DTSTAMP:20260420T094047
CREATED:20240730T040142Z
LAST-MODIFIED:20240730T040142Z
UID:10000082-1753084800-1753117200@www.urios.edu.ph
SUMMARY:Start of Classes
DESCRIPTION:
URL:https://www.urios.edu.ph/event/start-of-classes-2/
CATEGORIES:Classes
END:VEVENT
BEGIN:VEVENT
DTSTART;TZID=UTC:20250609T080000
DTEND;TZID=UTC:20250609T170000
DTSTAMP:20260420T094047
CREATED:20240730T035130Z
LAST-MODIFIED:20240730T035130Z
UID:10000067-1749456000-1749488400@www.urios.edu.ph
SUMMARY:Start of Classes
DESCRIPTION:
URL:https://www.urios.edu.ph/event/start-of-classes/
CATEGORIES:Classes
END:VEVENT
BEGIN:VEVENT
DTSTART;TZID=UTC:20250322T080000
DTEND;TZID=UTC:20250322T170000
DTSTAMP:20260420T094047
CREATED:20240730T035918Z
LAST-MODIFIED:20240730T035918Z
UID:10000078-1742630400-1742662800@www.urios.edu.ph
SUMMARY:Start of Classes for  the Second Cycle: Graduate Studies
DESCRIPTION:
URL:https://www.urios.edu.ph/event/start-of-classes-for-the-second-cycle-graduate-studies-2/
LOCATION:Main Campus\, San Francisco St.\, Butuan City
CATEGORIES:Classes,Graduate Studies
END:VEVENT
BEGIN:VEVENT
DTSTART;TZID=UTC:20250315T080000
DTEND;TZID=UTC:20250315T170000
DTSTAMP:20260420T094047
CREATED:20240730T034947Z
LAST-MODIFIED:20240730T034947Z
UID:10000065-1742025600-1742058000@www.urios.edu.ph
SUMMARY:End of Classes for the First Cycle: Graduate Studies
DESCRIPTION:
URL:https://www.urios.edu.ph/event/end-of-classes-for-the-first-cycle-graduate-studies-2/
LOCATION:Main Campus\, San Francisco St.\, Butuan City
CATEGORIES:Classes,Graduate Studies
END:VEVENT
BEGIN:VEVENT
DTSTART;TZID=UTC:20250118T080000
DTEND;TZID=UTC:20250118T170000
DTSTAMP:20260420T094047
CREATED:20240730T033656Z
LAST-MODIFIED:20240730T033656Z
UID:10000055-1737187200-1737219600@www.urios.edu.ph
SUMMARY:Start of Classes  for the First Cycle: Graduate Studies
DESCRIPTION:
URL:https://www.urios.edu.ph/event/start-of-classes-for-the-first-cycle-graduate-studies-2/
LOCATION:Main Campus\, San Francisco St.\, Butuan City
CATEGORIES:Classes,Graduate Studies
END:VEVENT
BEGIN:VEVENT
DTSTART;TZID=UTC:20250113T080000
DTEND;TZID=UTC:20250113T170000
DTSTAMP:20260420T094047
CREATED:20240730T033122Z
LAST-MODIFIED:20240730T033122Z
UID:10000052-1736755200-1736787600@www.urios.edu.ph
SUMMARY:Start of Classes: SHS\, College and Law
DESCRIPTION:
URL:https://www.urios.edu.ph/event/start-of-classes-shs-college-and-law/
CATEGORIES:Basic Education,Classes,College
END:VEVENT
BEGIN:VEVENT
DTSTART;TZID=UTC:20250106T080000
DTEND;TZID=UTC:20250106T170000
DTSTAMP:20260420T094047
CREATED:20240730T032930Z
LAST-MODIFIED:20240730T032930Z
UID:10000051-1736150400-1736182800@www.urios.edu.ph
SUMMARY:Resumption of classes: PS\, GS and JHS
DESCRIPTION:
URL:https://www.urios.edu.ph/event/resumption-of-classes-ps-gs-and-jhs/
LOCATION:Morelos\, Ambangan\, Libertad\, Butuan City
CATEGORIES:Basic Education,Classes
END:VEVENT
BEGIN:VEVENT
DTSTART;TZID=UTC:20241019T080000
DTEND;TZID=UTC:20241019T170000
DTSTAMP:20260420T094047
CREATED:20240730T025830Z
LAST-MODIFIED:20240730T025830Z
UID:10000032-1729324800-1729357200@www.urios.edu.ph
SUMMARY:Start of Classes for the  Second Cycle: Graduate Studies
DESCRIPTION:
URL:https://www.urios.edu.ph/event/start-of-classes-for-the-second-cycle-graduate-studies/
LOCATION:Main Campus\, San Francisco St.\, Butuan City
CATEGORIES:Classes,Graduate Studies
END:VEVENT
BEGIN:VEVENT
DTSTART;TZID=UTC:20240817T080000
DTEND;TZID=UTC:20240817T170000
DTSTAMP:20260420T094047
CREATED:20240730T023748Z
LAST-MODIFIED:20240730T060709Z
UID:10000018-1723881600-1723914000@www.urios.edu.ph
SUMMARY:Start of Classes  for the First Cycle: Graduate Studies
DESCRIPTION:
URL:https://www.urios.edu.ph/event/start-of-classes-for-the-first-cycle-graduate-studies/
LOCATION:Main Campus\, San Francisco St.\, Butuan City
CATEGORIES:Classes,Graduate Studies
END:VEVENT
BEGIN:VEVENT
DTSTART;TZID=UTC:20240805T080000
DTEND;TZID=UTC:20240805T170000
DTSTAMP:20260420T094047
CREATED:20240730T022149Z
LAST-MODIFIED:20240730T022149Z
UID:10000011-1722844800-1722877200@www.urios.edu.ph
SUMMARY:Start of Classes: College and Law
DESCRIPTION:
URL:https://www.urios.edu.ph/event/start-of-classes-college-and-law/
LOCATION:Main Campus\, San Francisco St.\, Butuan City
CATEGORIES:Classes,College
END:VEVENT
BEGIN:VEVENT
DTSTART;TZID=UTC:20240729T080000
DTEND;TZID=UTC:20240729T170000
DTSTAMP:20260420T094047
CREATED:20240730T022110Z
LAST-MODIFIED:20240730T022240Z
UID:10000010-1722240000-1722272400@www.urios.edu.ph
SUMMARY:Start of Classes: Basic Education
DESCRIPTION:
URL:https://www.urios.edu.ph/event/start-of-classes-basic-education/
LOCATION:Morelos\, Ambangan\, Libertad\, Butuan City
CATEGORIES:Basic Education,Classes
END:VEVENT
END:VCALENDAR