BEGIN:VCALENDAR
VERSION:2.0
PRODID:-//www.urios.edu.ph - ECPv6.10.2//NONSGML v1.0//EN
CALSCALE:GREGORIAN
METHOD:PUBLISH
X-WR-CALNAME:www.urios.edu.ph
X-ORIGINAL-URL:http://www.urios.edu.ph
X-WR-CALDESC:Events for www.urios.edu.ph
REFRESH-INTERVAL;VALUE=DURATION:PT1H
X-Robots-Tag:noindex
X-PUBLISHED-TTL:PT1H
BEGIN:VTIMEZONE
TZID:UTC
BEGIN:STANDARD
TZOFFSETFROM:+0000
TZOFFSETTO:+0000
TZNAME:UTC
DTSTART:20240101T000000
END:STANDARD
END:VTIMEZONE
BEGIN:VEVENT
DTSTART;TZID=UTC:20250113T080000
DTEND;TZID=UTC:20250118T170000
DTSTAMP:20260421T153758
CREATED:20240730T033243Z
LAST-MODIFIED:20240730T033243Z
UID:10000053-1736755200-1737219600@www.urios.edu.ph
SUMMARY:Enrollment Extension:  SHS\, College continuing students  and  transferees/returnees
DESCRIPTION:
URL:http://www.urios.edu.ph/event/enrollment-extension-shs-college-continuing-students-and-transferees-returnees/
CATEGORIES:Enrollment - Basic Education,Enrollment - College
END:VEVENT
BEGIN:VEVENT
DTSTART;TZID=UTC:20250106T080000
DTEND;TZID=UTC:20250111T170000
DTSTAMP:20260421T153758
CREATED:20240730T032610Z
LAST-MODIFIED:20240730T032610Z
UID:10000049-1736150400-1736614800@www.urios.edu.ph
SUMMARY:Enrollment: SHS\, College\, Law continuing students and  transferees/returnees
DESCRIPTION:
URL:http://www.urios.edu.ph/event/enrollment-shs-college-law-continuing-students-and-transferees-returnees/
CATEGORIES:Enrollment - Basic Education,Enrollment - College
END:VEVENT
BEGIN:VEVENT
DTSTART;TZID=UTC:20240708T080000
DTEND;TZID=UTC:20240709T170000
DTSTAMP:20260421T153758
CREATED:20240731T004949Z
LAST-MODIFIED:20240731T004949Z
UID:10001976-1720425600-1720544400@www.urios.edu.ph
SUMMARY:Enrollment: Basic Education
DESCRIPTION:
URL:http://www.urios.edu.ph/event/enrollment-basic-education-4/
LOCATION:Morelos\, Ambangan\, Libertad\, Butuan City
CATEGORIES:Enrollment - Basic Education
END:VEVENT
BEGIN:VEVENT
DTSTART;TZID=UTC:20240701T080000
DTEND;TZID=UTC:20240705T170000
DTSTAMP:20260421T153758
CREATED:20240731T004902Z
LAST-MODIFIED:20240731T012656Z
UID:10001974-1719820800-1720198800@www.urios.edu.ph
SUMMARY:Enrollment: Basic Education
DESCRIPTION:
URL:http://www.urios.edu.ph/event/enrollment-basic-education-3/
LOCATION:Morelos\, Ambangan\, Libertad\, Butuan City
CATEGORIES:Enrollment - Basic Education
END:VEVENT
END:VCALENDAR